Workbook

Sheet player1
A1: Round | B1: MSE guess | C1: MSE actual | D1: difference
A2: 1 | B2: 270 | C2: =everyone!P2 -> 247 | D2: =ABS(C2-B2) -> 23
A3: =1+A2 -> 2 | B3: 200 | C3: =everyone!P3 -> 251 | D3: =ABS(C3-B3) -> 51
A4: =1+A3 -> 3 | B4: 206 | C4: =everyone!P4 -> 260 | D4: =ABS(C4-B4) -> 54
A5: =1+A4 -> 4 | B5: 254 | C5: =everyone!P5 -> 263 | D5: =ABS(C5-B5) -> 9
A6: =1+A5 -> 5 | B6: 220 | C6: =everyone!P6 -> 246 | D6: =ABS(C6-B6) -> 26
A7: =1+A6 -> 6 | B7: 270 | C7: =everyone!P7 -> 228 | D7: =ABS(C7-B7) -> 42
A8: =1+A7 -> 7 | C8: =everyone!P8 -> 0 | D8: =ABS(C8-B8) -> 0
A9: =1+A8 -> 8 | C9: =everyone!P9 -> 0 | D9: =ABS(C9-B9) -> 0
A10: =1+A9 -> 9 | C10: =everyone!P10 -> 0 | D10: =ABS(C10-B10) -> 0
A11: =1+A10 -> 10 | C11: =everyone!P11 -> 0 | D11: =ABS(C11-B11) -> 0
A12: =1+A11 -> 11 | C12: =everyone!P12 -> 0 | D12: =ABS(C12-B12) -> 0
A13: =1+A12 -> 12 | C13: =everyone!P13 -> 0 | D13: =ABS(C13-B13) -> 0
A14: =1+A13 -> 13 | C14: =everyone!P14 -> 0 | D14: =ABS(C14-B14) -> 0
A15: =1+A14 -> 14 | C15: =everyone!P15 -> 0 | D15: =ABS(C15-B15) -> 0
A16: =1+A15 -> 15 | C16: =everyone!P16 -> 0 | D16: =ABS(C16-B16) -> 0
A17: =1+A16 -> 16 | C17: =everyone!P17 -> 0 | D17: =ABS(C17-B17) -> 0
A18: =1+A17 -> 17 | C18: =everyone!P18 -> 0 | D18: =ABS(C18-B18) -> 0
A19: =1+A18 -> 18 | C19: =everyone!P19 -> 0 | D19: =ABS(C19-B19) -> 0
A20: =1+A19 -> 19 | C20: =everyone!P20 -> 0 | D20: =ABS(C20-B20) -> 0
C23: Total diff: | D23: =SUM(D2:D20) -> 205

Sheet player2
A1: Round | B1: MSE guess | C1: MSE actual | D1: difference
A2: 1 | B2: 300 | C2: =everyone!P2 -> 247 | D2: =ABS(C2-B2) -> 53
A3: =1+A2 -> 2 | B3: 260 | C3: =everyone!P3 -> 251 | D3: =ABS(C3-B3) -> 9
A4: =1+A3 -> 3 | B4: 290 | C4: =everyone!P4 -> 260 | D4: =ABS(C4-B4) -> 30
A5: =1+A4 -> 4 | B5: 280 | C5: =everyone!P5 -> 263 | D5: =ABS(C5-B5) -> 17
A6: =1+A5 -> 5 | B6: 260 | C6: =everyone!P6 -> 246 | D6: =ABS(C6-B6) -> 14
A7: =1+A6 -> 6 | B7: 250 | C7: =everyone!P7 -> 228 | D7: =ABS(C7-B7) -> 22
A8: =1+A7 -> 7 | C8: =everyone!P8 -> 0 | D8: =ABS(C8-B8) -> 0
A9: =1+A8 -> 8 | C9: =everyone!P9 -> 0 | D9: =ABS(C9-B9) -> 0
A10: =1+A9 -> 9 | C10: =everyone!P10 -> 0 | D10: =ABS(C10-B10) -> 0
A11: =1+A10 -> 10 | C11: =everyone!P11 -> 0 | D11: =ABS(C11-B11) -> 0
A12: =1+A11 -> 11 | C12: =everyone!P12 -> 0 | D12: =ABS(C12-B12) -> 0
A13: =1+A12 -> 12 | C13: =everyone!P13 -> 0 | D13: =ABS(C13-B13) -> 0
A14: =1+A13 -> 13 | C14: =everyone!P14 -> 0 | D14: =ABS(C14-B14) -> 0
A15: =1+A14 -> 14 | C15: =everyone!P15 -> 0 | D15: =ABS(C15-B15) -> 0
A16: =1+A15 -> 15 | C16: =everyone!P16 -> 0 | D16: =ABS(C16-B16) -> 0
A17: =1+A16 -> 16 | C17: =everyone!P17 -> 0 | D17: =ABS(C17-B17) -> 0
A18: =1+A17 -> 17 | C18: =everyone!P18 -> 0 | D18: =ABS(C18-B18) -> 0
A19: =1+A18 -> 18 | C19: =everyone!P19 -> 0 | D19: =ABS(C19-B19) -> 0
A20: =1+A19 -> 19 | C20: =everyone!P20 -> 0 | D20: =ABS(C20-B20) -> 0
C23: Total diff: | D23: =SUM(D2:D20) -> 145

Sheet player3
A1: Round | B1: MSE guess | C1: MSE actual | D1: difference
A2: 1 | B2: 500 | C2: =everyone!P2 -> 247 | D2: =ABS(C2-B2) -> 253
A3: =1+A2 -> 2 | B3: 250 | C3: =everyone!P3 -> 251 | D3: =ABS(C3-B3) -> 1
A4: =1+A3 -> 3 | B4: 350 | C4: =everyone!P4 -> 260 | D4: =ABS(C4-B4) -> 90
A5: =1+A4 -> 4 | B5: 300 | C5: =everyone!P5 -> 263 | D5: =ABS(C5-B5) -> 37
A6: =1+A5 -> 5 | B6: 280 | C6: =everyone!P6 -> 246 | D6: =ABS(C6-B6) -> 34
A7: =1+A6 -> 6 | B7: 220 | C7: =everyone!P7 -> 228 | D7: =ABS(C7-B7) -> 8
A8: =1+A7 -> 7 | C8: =everyone!P8 -> 0 | D8: =ABS(C8-B8) -> 0
A9: =1+A8 -> 8 | C9: =everyone!P9 -> 0 | D9: =ABS(C9-B9) -> 0
A10: =1+A9 -> 9 | C10: =everyone!P10 -> 0 | D10: =ABS(C10-B10) -> 0
A11: =1+A10 -> 10 | C11: =everyone!P11 -> 0 | D11: =ABS(C11-B11) -> 0
A12: =1+A11 -> 11 | C12: =everyone!P12 -> 0 | D12: =ABS(C12-B12) -> 0
A13: =1+A12 -> 12 | C13: =everyone!P13 -> 0 | D13: =ABS(C13-B13) -> 0
A14: =1+A13 -> 13 | C14: =everyone!P14 -> 0 | D14: =ABS(C14-B14) -> 0
A15: =1+A14 -> 14 | C15: =everyone!P15 -> 0 | D15: =ABS(C15-B15) -> 0
A16: =1+A15 -> 15 | C16: =everyone!P16 -> 0 | D16: =ABS(C16-B16) -> 0
A17: =1+A16 -> 16 | C17: =everyone!P17 -> 0 | D17: =ABS(C17-B17) -> 0
A18: =1+A17 -> 17 | C18: =everyone!P18 -> 0 | D18: =ABS(C18-B18) -> 0
A19: =1+A18 -> 18 | C19: =everyone!P19 -> 0 | D19: =ABS(C19-B19) -> 0
A20: =1+A19 -> 19 | C20: =everyone!P20 -> 0 | D20: =ABS(C20-B20) -> 0
C23: Total diff: | D23: =SUM(D2:D20) -> 423

Sheet player4
A1: Round | B1: MSE guess | C1: MSE actual | D1: difference
A2: 1 | B2: 0 | C2: =everyone!P2 -> 247 | D2: =ABS(C2-B2) -> 247
A3: =1+A2 -> 2 | B3: 300 | C3: =everyone!P3 -> 251 | D3: =ABS(C3-B3) -> 49
A4: =1+A3 -> 3 | B4: 260 | C4: =everyone!P4 -> 260 | D4: =ABS(C4-B4) -> 0
A5: =1+A4 -> 4 | B5: 263 | C5: =everyone!P5 -> 263 | D5: =ABS(C5-B5) -> 0
A6: =1+A5 -> 5 | B6: 248 | C6: =everyone!P6 -> 246 | D6: =ABS(C6-B6) -> 2
A7: =1+A6 -> 6 | B7: 270 | C7: =everyone!P7 -> 228 | D7: =ABS(C7-B7) -> 42
A8: =1+A7 -> 7 | C8: =everyone!P8 -> 0 | D8: =ABS(C8-B8) -> 0
A9: =1+A8 -> 8 | C9: =everyone!P9 -> 0 | D9: =ABS(C9-B9) -> 0
A10: =1+A9 -> 9 | C10: =everyone!P10 -> 0 | D10: =ABS(C10-B10) -> 0
A11: =1+A10 -> 10 | C11: =everyone!P11 -> 0 | D11: =ABS(C11-B11) -> 0
A12: =1+A11 -> 11 | C12: =everyone!P12 -> 0 | D12: =ABS(C12-B12) -> 0
A13: =1+A12 -> 12 | C13: =everyone!P13 -> 0 | D13: =ABS(C13-B13) -> 0
A14: =1+A13 -> 13 | C14: =everyone!P14 -> 0 | D14: =ABS(C14-B14) -> 0
A15: =1+A14 -> 14 | C15: =everyone!P15 -> 0 | D15: =ABS(C15-B15) -> 0
A16: =1+A15 -> 15 | C16: =everyone!P16 -> 0 | D16: =ABS(C16-B16) -> 0
A17: =1+A16 -> 16 | C17: =everyone!P17 -> 0 | D17: =ABS(C17-B17) -> 0
A18: =1+A17 -> 17 | C18: =everyone!P18 -> 0 | D18: =ABS(C18-B18) -> 0
A19: =1+A18 -> 18 | C19: =everyone!P19 -> 0 | D19: =ABS(C19-B19) -> 0
A20: =1+A19 -> 19 | C20: =everyone!P20 -> 0 | D20: =ABS(C20-B20) -> 0
C23: Total diff: | D23: =SUM(D2:D20) -> 340

Sheet player5
A1: Round | B1: MSE guess | C1: MSE actual | D1: difference
A2: 1 | B2: 450 | C2: =everyone!P2 -> 247 | D2: =ABS(C2-B2) -> 203
A3: =1+A2 -> 2 | B3: 220 | C3: =everyone!P3 -> 251 | D3: =ABS(C3-B3) -> 31
A4: =1+A3 -> 3 | B4: 260 | C4: =everyone!P4 -> 260 | D4: =ABS(C4-B4) -> 0
A5: =1+A4 -> 4 | B5: 280 | C5: =everyone!P5 -> 263 | D5: =ABS(C5-B5) -> 17
A6: =1+A5 -> 5 | B6: 240 | C6: =everyone!P6 -> 246 | D6: =ABS(C6-B6) -> 6
A7: =1+A6 -> 6 | B7: 230 | C7: =everyone!P7 -> 228 | D7: =ABS(C7-B7) -> 2
A8: =1+A7 -> 7 | C8: =everyone!P8 -> 0 | D8: =ABS(C8-B8) -> 0
A9: =1+A8 -> 8 | C9: =everyone!P9 -> 0 | D9: =ABS(C9-B9) -> 0
A10: =1+A9 -> 9 | C10: =everyone!P10 -> 0 | D10: =ABS(C10-B10) -> 0
A11: =1+A10 -> 10 | C11: =everyone!P11 -> 0 | D11: =ABS(C11-B11) -> 0
A12: =1+A11 -> 11 | C12: =everyone!P12 -> 0 | D12: =ABS(C12-B12) -> 0
A13: =1+A12 -> 12 | C13: =everyone!P13 -> 0 | D13: =ABS(C13-B13) -> 0
A14: =1+A13 -> 13 | C14: =everyone!P14 -> 0 | D14: =ABS(C14-B14) -> 0
A15: =1+A14 -> 14 | C15: =everyone!P15 -> 0 | D15: =ABS(C15-B15) -> 0
A16: =1+A15 -> 15 | C16: =everyone!P16 -> 0 | D16: =ABS(C16-B16) -> 0
A17: =1+A16 -> 16 | C17: =everyone!P17 -> 0 | D17: =ABS(C17-B17) -> 0
A18: =1+A17 -> 17 | C18: =everyone!P18 -> 0 | D18: =ABS(C18-B18) -> 0
A19: =1+A18 -> 18 | C19: =everyone!P19 -> 0 | D19: =ABS(C19-B19) -> 0
A20: =1+A19 -> 19 | C20: =everyone!P20 -> 0 | D20: =ABS(C20-B20) -> 0
C23: Total diff: | D23: =SUM(D2:D20) -> 259

Sheet player6
A1: Round | B1: MSE guess | C1: MSE actual | D1: difference
A2: 1 | B2: 240 | C2: =everyone!P2 -> 247 | D2: =ABS(C2-B2) -> 7
A3: =1+A2 -> 2 | B3: 240 | C3: =everyone!P3 -> 251 | D3: =ABS(C3-B3) -> 11
A4: =1+A3 -> 3 | B4: 240 | C4: =everyone!P4 -> 260 | D4: =ABS(C4-B4) -> 20
A5: =1+A4 -> 4 | B5: 240 | C5: =everyone!P5 -> 263 | D5: =ABS(C5-B5) -> 23
A6: =1+A5 -> 5 | B6: 250 | C6: =everyone!P6 -> 246 | D6: =ABS(C6-B6) -> 4
A7: =1+A6 -> 6 | B7: 240 | C7: =everyone!P7 -> 228 | D7: =ABS(C7-B7) -> 12
A8: =1+A7 -> 7 | C8: =everyone!P8 -> 0 | D8: =ABS(C8-B8) -> 0
A9: =1+A8 -> 8 | C9: =everyone!P9 -> 0 | D9: =ABS(C9-B9) -> 0
A10: =1+A9 -> 9 | C10: =everyone!P10 -> 0 | D10: =ABS(C10-B10) -> 0
A11: =1+A10 -> 10 | C11: =everyone!P11 -> 0 | D11: =ABS(C11-B11) -> 0
A12: =1+A11 -> 11 | C12: =everyone!P12 -> 0 | D12: =ABS(C12-B12) -> 0
A13: =1+A12 -> 12 | C13: =everyone!P13 -> 0 | D13: =ABS(C13-B13) -> 0
A14: =1+A13 -> 13 | C14: =everyone!P14 -> 0 | D14: =ABS(C14-B14) -> 0
A15: =1+A14 -> 14 | C15: =everyone!P15 -> 0 | D15: =ABS(C15-B15) -> 0
A16: =1+A15 -> 15 | C16: =everyone!P16 -> 0 | D16: =ABS(C16-B16) -> 0
A17: =1+A16 -> 16 | C17: =everyone!P17 -> 0 | D17: =ABS(C17-B17) -> 0
A18: =1+A17 -> 17 | C18: =everyone!P18 -> 0 | D18: =ABS(C18-B18) -> 0
A19: =1+A18 -> 18 | C19: =everyone!P19 -> 0 | D19: =ABS(C19-B19) -> 0
A20: =1+A19 -> 19 | C20: =everyone!P20 -> 0 | D20: =ABS(C20-B20) -> 0
C23: Total diff: | D23: =SUM(D2:D20) -> 77

Sheet player7
A1: Round | B1: MSE guess | C1: MSE actual | D1: difference
A2: 1 | B2: 300 | C2: =everyone!P2 -> 247 | D2: =ABS(C2-B2) -> 53
A3: =1+A2 -> 2 | B3: 0 | C3: =everyone!P3 -> 251 | D3: =ABS(C3-B3) -> 251
A4: =1+A3 -> 3 | B4: 260 | C4: =everyone!P4 -> 260 | D4: =ABS(C4-B4) -> 0
A5: =1+A4 -> 4 | B5: 300 | C5: =everyone!P5 -> 263 | D5: =ABS(C5-B5) -> 37
A6: =1+A5 -> 5 | B6: 300 | C6: =everyone!P6 -> 246 | D6: =ABS(C6-B5) -> 54
A7: =1+A6 -> 6 | B7: 300 | C7: =everyone!P7 -> 228 | D7: =ABS(C7-B7) -> 72
A8: =1+A7 -> 7 | C8: =everyone!P8 -> 0 | D8: =ABS(C8-B8) -> 0
A9: =1+A8 -> 8 | C9: =everyone!P9 -> 0 | D9: =ABS(C9-B9) -> 0
A10: =1+A9 -> 9 | C10: =everyone!P10 -> 0 | D10: =ABS(C10-B10) -> 0
A11: =1+A10 -> 10 | C11: =everyone!P11 -> 0 | D11: =ABS(C11-B11) -> 0
A12: =1+A11 -> 11 | C12: =everyone!P12 -> 0 | D12: =ABS(C12-B12) -> 0
A13: =1+A12 -> 12 | C13: =everyone!P13 -> 0 | D13: =ABS(C13-B13) -> 0
A14: =1+A13 -> 13 | C14: =everyone!P14 -> 0 | D14: =ABS(C14-B14) -> 0
A15: =1+A14 -> 14 | C15: =everyone!P15 -> 0 | D15: =ABS(C15-B15) -> 0
A16: =1+A15 -> 15 | C16: =everyone!P16 -> 0 | D16: =ABS(C16-B16) -> 0
A17: =1+A16 -> 16 | C17: =everyone!P17 -> 0 | D17: =ABS(C17-B17) -> 0
A18: =1+A17 -> 17 | C18: =everyone!P18 -> 0 | D18: =ABS(C18-B18) -> 0
A19: =1+A18 -> 18 | C19: =everyone!P19 -> 0 | D19: =ABS(C19-B19) -> 0
A20: =1+A19 -> 19 | C20: =everyone!P20 -> 0 | D20: =ABS(C20-B20) -> 0
C23: Total diff: | D23: =SUM(D2:D20) -> 467

Sheet player8
A1: Round | B1: MSE guess | C1: MSE actual | D1: difference
A2: 1 | B2: 250 | C2: =everyone!P2 -> 247 | D2: =ABS(C2-B2) -> 3
A3: =1+A2 -> 2 | B3: 245 | C3: =everyone!P3 -> 251 | D3: =ABS(C3-B3) -> 6
A4: =1+A3 -> 3 | B4: 240 | C4: =everyone!P4 -> 260 | D4: =ABS(C4-B4) -> 20
A5: =1+A4 -> 4 | B5: 250 | C5: =everyone!P5 -> 263 | D5: =ABS(C5-B5) -> 13
A6: =1+A5 -> 5 | B6: 245 | C6: =everyone!P6 -> 246 | D6: =ABS(C6-B6) -> 1
A7: =1+A6 -> 6 | B7: 240 | C7: =everyone!P7 -> 228 | D7: =ABS(C7-B7) -> 12
A8: =1+A7 -> 7 | C8: =everyone!P8 -> 0 | D8: =ABS(C8-B8) -> 0
A9: =1+A8 -> 8 | C9: =everyone!P9 -> 0 | D9: =ABS(C9-B9) -> 0
A10: =1+A9 -> 9 | C10: =everyone!P10 -> 0 | D10: =ABS(C10-B10) -> 0
A11: =1+A10 -> 10 | C11: =everyone!P11 -> 0 | D11: =ABS(C11-B11) -> 0
A12: =1+A11 -> 11 | C12: =everyone!P12 -> 0 | D12: =ABS(C12-B12) -> 0
A13: =1+A12 -> 12 | C13: =everyone!P13 -> 0 | D13: =ABS(C13-B13) -> 0
A14: =1+A13 -> 13 | C14: =everyone!P14 -> 0 | D14: =ABS(C14-B14) -> 0
A15: =1+A14 -> 14 | C15: =everyone!P15 -> 0 | D15: =ABS(C15-B15) -> 0
A16: =1+A15 -> 15 | C16: =everyone!P16 -> 0 | D16: =ABS(C16-B16) -> 0
A17: =1+A16 -> 16 | C17: =everyone!P17 -> 0 | D17: =ABS(C17-B17) -> 0
A18: =1+A17 -> 17 | C18: =everyone!P18 -> 0 | D18: =ABS(C18-B18) -> 0
A19: =1+A18 -> 18 | C19: =everyone!P19 -> 0 | D19: =ABS(C19-B19) -> 0
A20: =1+A19 -> 19 | C20: =everyone!P20 -> 0 | D20: =ABS(C20-B20) -> 0
C23: Total diff: | D23: =SUM(D2:D20) -> 55

Sheet player9
A1: Round | B1: MSE guess | C1: MSE actual | D1: difference
A2: 1 | B2: 250 | C2: =everyone!P2 -> 247 | D2: =ABS(C2-B2) -> 3
A3: =1+A2 -> 2 | B3: 200 | C3: =everyone!P3 -> 251 | D3: =ABS(C3-B3) -> 51
A4: =1+A3 -> 3 | B4: 0 | C4: =everyone!P4 -> 260 | D4: =ABS(C4-B4) -> 260
A5: =1+A4 -> 4 | B5: 260 | C5: =everyone!P5 -> 263 | D5: =ABS(C5-B5) -> 3
A6: =1+A5 -> 5 | B6: 230 | C6: =everyone!P6 -> 246 | D6: =ABS(C6-B6) -> 16
A7: =1+A6 -> 6 | B7: 230 | C7: =everyone!P7 -> 228 | D7: =ABS(C7-B7) -> 2
A8: =1+A7 -> 7 | C8: =everyone!P8 -> 0 | D8: =ABS(C8-B8) -> 0
A9: =1+A8 -> 8 | C9: =everyone!P9 -> 0 | D9: =ABS(C9-B9) -> 0
A10: =1+A9 -> 9 | C10: =everyone!P10 -> 0 | D10: =ABS(C10-B10) -> 0
A11: =1+A10 -> 10 | C11: =everyone!P11 -> 0 | D11: =ABS(C11-B11) -> 0
A12: =1+A11 -> 11 | C12: =everyone!P12 -> 0 | D12: =ABS(C12-B12) -> 0
A13: =1+A12 -> 12 | C13: =everyone!P13 -> 0 | D13: =ABS(C13-B13) -> 0
A14: =1+A13 -> 13 | C14: =everyone!P14 -> 0 | D14: =ABS(C14-B14) -> 0
A15: =1+A14 -> 14 | C15: =everyone!P15 -> 0 | D15: =ABS(C15-B15) -> 0
A16: =1+A15 -> 15 | C16: =everyone!P16 -> 0 | D16: =ABS(C16-B16) -> 0
A17: =1+A16 -> 16 | C17: =everyone!P17 -> 0 | D17: =ABS(C17-B17) -> 0
A18: =1+A17 -> 17 | C18: =everyone!P18 -> 0 | D18: =ABS(C18-B18) -> 0
A19: =1+A18 -> 18 | C19: =everyone!P19 -> 0 | D19: =ABS(C19-B19) -> 0
A20: =1+A19 -> 19 | C20: =everyone!P20 -> 0 | D20: =ABS(C20-B20) -> 0
C23: Total diff: | D23: =SUM(D2:D20) -> 335

Sheet everyone
A1: Round | B1: player1 | C1: player2 | D1: player3 | E1: player4 | F1: player5 | G1: player6 | H1: player7 | I1: player8 | J1: player9 | P1: MSE | T1: min | Z1: player1 | AA1: player2 | AB1: player3 | AC1: player4 | AD1: player5 | AE1: player6 | AF1: player7 | AG1: player8 | AH1: player9
A2: 1 | B2: =player1!D2 -> 23 | C2: =player2!D2 -> 53 | D2: =player3!D2 -> 253 | E2: =player4!D2 -> 247 | F2: =player5!D2 -> 203 | G2: =player6!D2 -> 7 | H2: =player7!D2 -> 53 | I2: =player8!D2 -> 3 | J2: =player9!D2 -> 3 | P2: 247 | T2: =MIN(B2:K2) -> 3 | Z2: =IF($T2=B2,Z$1,"") | AA2: =IF($T2=C2,AA$1,"") | AB2: =IF($T2=D2,AB$1,"") | AC2: =IF($T2=E2,AC$1,"") | AD2: =IF($T2=F2,AD$1,"") | AE2: =IF($T2=G2,AE$1,"") | AF2: =IF($T2=H2,AF$1,"") | AG2: =IF($T2=I2,AG$1,"") -> player8 | AH2: =IF($T2=J2,AH$1,"") -> player9
A3: =1+A2 -> 2 | B3: =player1!D3 -> 51 | C3: =player2!D3 -> 9 | D3: =player3!D3 -> 1 | E3: =player4!D3 -> 49 | F3: =player5!D3 -> 31 | G3: =player6!D3 -> 11 | H3: =player7!D3 -> 251 | I3: =player8!D3 -> 6 | J3: =player9!D3 -> 51 | P3: 251 | T3: =MIN(B3:K3) -> 1 | Z3: =IF($T3=B3,Z$1,"") | AA3: =IF($T3=C3,AA$1,"") | AB3: =IF($T3=D3,AB$1,"") -> player3 | AC3: =IF($T3=E3,AC$1,"") | AD3: =IF($T3=F3,AD$1,"") | AE3: =IF($T3=G3,AE$1,"") | AF3: =IF($T3=H3,AF$1,"") | AG3: =IF($T3=I3,AG$1,"") | AH3: =IF($T3=J3,AH$1,"")
A4: =1+A3 -> 3 | B4: =player1!D4 -> 54 | C4: =player2!D4 -> 30 | D4: =player3!D4 -> 90 | E4: =player4!D4 -> 0 | F4: =player5!D4 -> 0 | G4: =player6!D4 -> 20 | H4: =player7!D4 -> 0 | I4: =player8!D4 -> 20 | J4: =player9!D4 -> 260 | P4: 260 | T4: =MIN(B4:K4) -> 0 | Z4: =IF($T4=B4,Z$1,"") | AA4: =IF($T4=C4,AA$1,"") | AB4: =IF($T4=D4,AB$1,"") | AC4: =IF($T4=E4,AC$1,"") -> player4 | AD4: =IF($T4=F4,AD$1,"") -> player5 | AE4: =IF($T4=G4,AE$1,"") | AF4: =IF($T4=H4,AF$1,"") -> player7 | AG4: =IF($T4=I4,AG$1,"") | AH4: =IF($T4=J4,AH$1,"")
A5: =1+A4 -> 4 | B5: =player1!D5 -> 9 | C5: =player2!D5 -> 17 | D5: =player3!D5 -> 37 | E5: =player4!D5 -> 0 | F5: =player5!D5 -> 17 | G5: =player6!D5 -> 23 | H5: =player7!D5 -> 37 | I5: =player8!D5 -> 13 | J5: =player9!D5 -> 3 | P5: 263 | T5: =MIN(B5:K5) -> 0 | Z5: =IF($T5=B5,Z$1,"") | AA5: =IF($T5=C5,AA$1,"") | AB5: =IF($T5=D5,AB$1,"") | AC5: =IF($T5=E5,AC$1,"") -> player4 | AD5: =IF($T5=F5,AD$1,"") | AE5: =IF($T5=G5,AE$1,"") | AF5: =IF($T5=H5,AF$1,"") | AG5: =IF($T5=I5,AG$1,"") | AH5: =IF($T5=J5,AH$1,"")
A6: =1+A5 -> 5 | B6: =player1!D6 -> 26 | C6: =player2!D6 -> 14 | D6: =player3!D6 -> 34 | E6: =player4!D6 -> 2 | F6: =player5!D6 -> 6 | G6: =player6!D6 -> 4 | H6: =player7!D6 -> 54 | I6: =player8!D6 -> 1 | J6: =player9!D6 -> 16 | P6: 246 | T6: =MIN(B6:K6) -> 1 | Z6: =IF($T6=B6,Z$1,"") | AA6: =IF($T6=C6,AA$1,"") | AB6: =IF($T6=D6,AB$1,"") | AC6: =IF($T6=E6,AC$1,"") | AD6: =IF($T6=F6,AD$1,"") | AE6: =IF($T6=G6,AE$1,"") | AF6: =IF($T6=H6,AF$1,"") | AG6: =IF($T6=I6,AG$1,"") -> player8 | AH6: =IF($T6=J6,AH$1,"")
A7: =1+A6 -> 6 | B7: =player1!D7 -> 42 | C7: =player2!D7 -> 22 | D7: =player3!D7 -> 8 | E7: =player4!D7 -> 42 | F7: =player5!D7 -> 2 | G7: =player6!D7 -> 12 | H7: =player7!D7 -> 72 | I7: =player8!D7 -> 12 | J7: =player9!D7 -> 2 | P7: 228 | T7: =MIN(B7:K7) -> 2 | Z7: =IF($T7=B7,Z$1,"") | AA7: =IF($T7=C7,AA$1,"") | AB7: =IF($T7=D7,AB$1,"") | AC7: =IF($T7=E7,AC$1,"") | AD7: =IF($T7=F7,AD$1,"") -> player5 | AE7: =IF($T7=G7,AE$1,"") | AF7: =IF($T7=H7,AF$1,"") | AG7: =IF($T7=I7,AG$1,"") | AH7: =IF($T7=J7,AH$1,"") -> player9
A8: =1+A7 -> 7 | B8: =player1!D8 -> 0 | C8: =player2!D8 -> 0 | D8: =player3!D8 -> 0 | E8: =player4!D8 -> 0 | F8: =player5!D8 -> 0 | G8: =player6!D8 -> 0 | H8: =player7!D8 -> 0 | I8: =player8!D8 -> 0 | J8: =player9!D8 -> 0 | T8: =MIN(B8:K8) -> 0 | Z8: =IF($T8=B8,Z$1,"") -> player1 | AA8: =IF($T8=C8,AA$1,"") -> player2 | AB8: =IF($T8=D8,AB$1,"") -> player3 | AC8: =IF($T8=E8,AC$1,"") -> player4 | AD8: =IF($T8=F8,AD$1,"") -> player5 | AE8: =IF($T8=G8,AE$1,"") -> player6 | AF8: =IF($T8=H8,AF$1,"") -> player7 | AG8: =IF($T8=I8,AG$1,"") -> player8 | AH8: =IF($T8=J8,AH$1,"") -> player9
A9: =1+A8 -> 8 | B9: =player1!D9 -> 0 | C9: =player2!D9 -> 0 | D9: =player3!D9 -> 0 | E9: =player4!D9 -> 0 | F9: =player5!D9 -> 0 | G9: =player6!D9 -> 0 | H9: =player7!D9 -> 0 | I9: =player8!D9 -> 0 | J9: =player9!D9 -> 0 | T9: =MIN(B9:K9) -> 0 | Z9: =IF($T9=B9,Z$1,"") -> player1 | AA9: =IF($T9=C9,AA$1,"") -> player2 | AB9: =IF($T9=D9,AB$1,"") -> player3 | AC9: =IF($T9=E9,AC$1,"") -> player4 | AD9: =IF($T9=F9,AD$1,"") -> player5 | AE9: =IF($T9=G9,AE$1,"") -> player6 | AF9: =IF($T9=H9,AF$1,"") -> player7 | AG9: =IF($T9=I9,AG$1,"") -> player8 | AH9: =IF($T9=J9,AH$1,"") -> player9
A10: =1+A9 -> 9 | B10: =player1!D10 -> 0 | C10: =player2!D10 -> 0 | D10: =player3!D10 -> 0 | E10: =player4!D10 -> 0 | F10: =player5!D10 -> 0 | G10: =player6!D10 -> 0 | H10: =player7!D10 -> 0 | I10: =player8!D10 -> 0 | J10: =player9!D10 -> 0 | T10: =MIN(B10:K10) -> 0 | Z10: =IF($T10=B10,Z$1,"") -> player1 | AA10: =IF($T10=C10,AA$1,"") -> player2 | AB10: =IF($T10=D10,AB$1,"") -> player3 | AC10: =IF($T10=E10,AC$1,"") -> player4 | AD10: =IF($T10=F10,AD$1,"") -> player5 | AE10: =IF($T10=G10,AE$1,"") -> player6 | AF10: =IF($T10=H10,AF$1,"") -> player7 | AG10: =IF($T10=I10,AG$1,"") -> player8 | AH10: =IF($T10=J10,AH$1,"") -> player9
A11: =1+A10 -> 10 | B11: =player1!D11 -> 0 | C11: =player2!D11 -> 0 | D11: =player3!D11 -> 0 | E11: =player4!D11 -> 0 | F11: =player5!D11 -> 0 | G11: =player6!D11 -> 0 | H11: =player7!D11 -> 0 | I11: =player8!D11 -> 0 | J11: =player9!D11 -> 0 | T11: =MIN(B11:K11) -> 0 | Z11: =IF($T11=B11,Z$1,"") -> player1 | AA11: =IF($T11=C11,AA$1,"") -> player2 | AB11: =IF($T11=D11,AB$1,"") -> player3 | AC11: =IF($T11=E11,AC$1,"") -> player4 | AD11: =IF($T11=F11,AD$1,"") -> player5 | AE11: =IF($T11=G11,AE$1,"") -> player6 | AF11: =IF($T11=H11,AF$1,"") -> player7 | AG11: =IF($T11=I11,AG$1,"") -> player8 | AH11: =IF($T11=J11,AH$1,"") -> player9
A12: =1+A11 -> 11 | B12: =player1!D12 -> 0 | C12: =player2!D12 -> 0 | D12: =player3!D12 -> 0 | E12: =player4!D12 -> 0 | F12: =player5!D12 -> 0 | G12: =player6!D12 -> 0 | H12: =player7!D12 -> 0 | I12: =player8!D12 -> 0 | J12: =player9!D12 -> 0 | T12: =MIN(B12:K12) -> 0 | Z12: =IF($T12=B12,Z$1,"") -> player1 | AA12: =IF($T12=C12,AA$1,"") -> player2 | AB12: =IF($T12=D12,AB$1,"") -> player3 | AC12: =IF($T12=E12,AC$1,"") -> player4 | AD12: =IF($T12=F12,AD$1,"") -> player5 | AE12: =IF($T12=G12,AE$1,"") -> player6 | AF12: =IF($T12=H12,AF$1,"") -> player7 | AG12: =IF($T12=I12,AG$1,"") -> player8 | AH12: =IF($T12=J12,AH$1,"") -> player9
A13: =1+A12 -> 12 | B13: =player1!D13 -> 0 | C13: =player2!D13 -> 0 | D13: =player3!D13 -> 0 | E13: =player4!D13 -> 0 | F13: =player5!D13 -> 0 | G13: =player6!D13 -> 0 | H13: =player7!D13 -> 0 | I13: =player8!D13 -> 0 | J13: =player9!D13 -> 0 | T13: =MIN(B13:K13) -> 0 | Z13: =IF($T13=B13,Z$1,"") -> player1 | AA13: =IF($T13=C13,AA$1,"") -> player2 | AB13: =IF($T13=D13,AB$1,"") -> player3 | AC13: =IF($T13=E13,AC$1,"") -> player4 | AD13: =IF($T13=F13,AD$1,"") -> player5 | AE13: =IF($T13=G13,AE$1,"") -> player6 | AF13: =IF($T13=H13,AF$1,"") -> player7 | AG13: =IF($T13=I13,AG$1,"") -> player8 | AH13: =IF($T13=J13,AH$1,"") -> player9
A14: =1+A13 -> 13 | B14: =player1!D14 -> 0 | C14: =player2!D14 -> 0 | D14: =player3!D14 -> 0 | E14: =player4!D14 -> 0 | F14: =player5!D14 -> 0 | G14: =player6!D14 -> 0 | H14: =player7!D14 -> 0 | I14: =player8!D14 -> 0 | J14: =player9!D14 -> 0 | T14: =MIN(B14:K14) -> 0 | Z14: =IF($T14=B14,Z$1,"") -> player1 | AA14: =IF($T14=C14,AA$1,"") -> player2 | AB14: =IF($T14=D14,AB$1,"") -> player3 | AC14: =IF($T14=E14,AC$1,"") -> player4 | AD14: =IF($T14=F14,AD$1,"") -> player5 | AE14: =IF($T14=G14,AE$1,"") -> player6 | AF14: =IF($T14=H14,AF$1,"") -> player7 | AG14: =IF($T14=I14,AG$1,"") -> player8 | AH14: =IF($T14=J14,AH$1,"") -> player9
A15: =1+A14 -> 14 | B15: =player1!D15 -> 0 | C15: =player2!D15 -> 0 | D15: =player3!D15 -> 0 | E15: =player4!D15 -> 0 | F15: =player5!D15 -> 0 | G15: =player6!D15 -> 0 | H15: =player7!D15 -> 0 | I15: =player8!D15 -> 0 | J15: =player9!D15 -> 0 | T15: =MIN(B15:K15) -> 0 | Z15: =IF($T15=B15,Z$1,"") -> player1 | AA15: =IF($T15=C15,AA$1,"") -> player2 | AB15: =IF($T15=D15,AB$1,"") -> player3 | AC15: =IF($T15=E15,AC$1,"") -> player4 | AD15: =IF($T15=F15,AD$1,"") -> player5 | AE15: =IF($T15=G15,AE$1,"") -> player6 | AF15: =IF($T15=H15,AF$1,"") -> player7 | AG15: =IF($T15=I15,AG$1,"") -> player8 | AH15: =IF($T15=J15,AH$1,"") -> player9
A16: =1+A15 -> 15 | B16: =player1!D16 -> 0 | C16: =player2!D16 -> 0 | D16: =player3!D16 -> 0 | E16: =player4!D16 -> 0 | F16: =player5!D16 -> 0 | G16: =player6!D16 -> 0 | H16: =player7!D16 -> 0 | I16: =player8!D16 -> 0 | J16: =player9!D16 -> 0 | T16: =MIN(B16:K16) -> 0 | Z16: =IF($T16=B16,Z$1,"") -> player1 | AA16: =IF($T16=C16,AA$1,"") -> player2 | AB16: =IF($T16=D16,AB$1,"") -> player3 | AC16: =IF($T16=E16,AC$1,"") -> player4 | AD16: =IF($T16=F16,AD$1,"") -> player5 | AE16: =IF($T16=G16,AE$1,"") -> player6 | AF16: =IF($T16=H16,AF$1,"") -> player7 | AG16: =IF($T16=I16,AG$1,"") -> player8 | AH16: =IF($T16=J16,AH$1,"") -> player9
A17: =1+A16 -> 16 | B17: =player1!D17 -> 0 | C17: =player2!D17 -> 0 | D17: =player3!D17 -> 0 | E17: =player4!D17 -> 0 | F17: =player5!D17 -> 0 | G17: =player6!D17 -> 0 | H17: =player7!D17 -> 0 | I17: =player8!D17 -> 0 | J17: =player9!D17 -> 0 | T17: =MIN(B17:K17) -> 0 | Z17: =IF($T17=B17,Z$1,"") -> player1 | AA17: =IF($T17=C17,AA$1,"") -> player2 | AB17: =IF($T17=D17,AB$1,"") -> player3 | AC17: =IF($T17=E17,AC$1,"") -> player4 | AD17: =IF($T17=F17,AD$1,"") -> player5 | AE17: =IF($T17=G17,AE$1,"") -> player6 | AF17: =IF($T17=H17,AF$1,"") -> player7 | AG17: =IF($T17=I17,AG$1,"") -> player8 | AH17: =IF($T17=J17,AH$1,"") -> player9
A18: =1+A17 -> 17 | B18: =player1!D18 -> 0 | C18: =player2!D18 -> 0 | D18: =player3!D18 -> 0 | E18: =player4!D18 -> 0 | F18: =player5!D18 -> 0 | G18: =player6!D18 -> 0 | H18: =player7!D18 -> 0 | I18: =player8!D18 -> 0 | J18: =player9!D18 -> 0 | T18: =MIN(B18:K18) -> 0 | Z18: =IF($T18=B18,Z$1,"") -> player1 | AA18: =IF($T18=C18,AA$1,"") -> player2 | AB18: =IF($T18=D18,AB$1,"") -> player3 | AC18: =IF($T18=E18,AC$1,"") -> player4 | AD18: =IF($T18=F18,AD$1,"") -> player5 | AE18: =IF($T18=G18,AE$1,"") -> player6 | AF18: =IF($T18=H18,AF$1,"") -> player7 | AG18: =IF($T18=I18,AG$1,"") -> player8 | AH18: =IF($T18=J18,AH$1,"") -> player9
A19: =1+A18 -> 18 | B19: =player1!D19 -> 0 | C19: =player2!D19 -> 0 | D19: =player3!D19 -> 0 | E19: =player4!D19 -> 0 | F19: =player5!D19 -> 0 | G19: =player6!D19 -> 0 | H19: =player7!D19 -> 0 | I19: =player8!D19 -> 0 | J19: =player9!D19 -> 0 | T19: =MIN(B19:K19) -> 0 | Z19: =IF($T19=B19,Z$1,"") -> player1 | AA19: =IF($T19=C19,AA$1,"") -> player2 | AB19: =IF($T19=D19,AB$1,"") -> player3 | AC19: =IF($T19=E19,AC$1,"") -> player4 | AD19: =IF($T19=F19,AD$1,"") -> player5 | AE19: =IF($T19=G19,AE$1,"") -> player6 | AF19: =IF($T19=H19,AF$1,"") -> player7 | AG19: =IF($T19=I19,AG$1,"") -> player8 | AH19: =IF($T19=J19,AH$1,"") -> player9
... A21: =1+A20 -> 20 | B21: =player1!D21 -> 0 | C21: =player2!D21 -> 0 | D21: =player3!D21 -> 0 | E21: =player4!D21 -> 0 | F21: =player5!D21 -> 0 | G21: =player6!D21 -> 0 | H21: =player7!D21 -> 0 | I21: =player8!D21 -> 0 | J21: =player9!D21 -> 0 | T21: =MIN(B21:K21) -> 0 | Z21: =IF($T21=B21,Z$1,"") -> player1 | AA21: =IF($T21=C21,AA$1,"") -> player2 | AB21: =IF($T21=D21,AB$1,"") -> player3 | AC21: =IF($T21=E21,AC$1,"") -> player4 | AD21: =IF($T21=F21,AD$1,"") -> player5 | AE21: =IF($T21=G21,AE$1,"") -> player6 | AF21: =IF($T21=H21,AF$1,"") -> player7 | AG21: =IF($T21=I21,AG$1,"") -> player8 | AH21: =IF($T21=J21,AH$1,"") -> player9
T22: =MIN(B22:K22) -> 0 | Z22: =IF($T22=B22,Z$1,"") -> player1 | AA22: =IF($T22=C22,AA$1,"") -> player2 | AB22: =IF($T22=D22,AB$1,"") -> player3 | AC22: =IF($T22=E22,AC$1,"") -> player4 | AD22: =IF($T22=F22,AD$1,"") -> player5 | AE22: =IF($T22=G22,AE$1,"") -> player6 | AF22: =IF($T22=H22,AF$1,"") -> player7 | AG22: =IF($T22=I22,AG$1,"") -> player8 | AH22: =IF($T22=J22,AH$1,"") -> player9
T23: =MIN(B23:K23) -> 0 | Z23: =IF($T23=B23,Z$1,"") -> player1 | AA23: =IF($T23=C23,AA$1,"") -> player2 | AB23: =IF($T23=D23,AB$1,"") -> player3 | AC23: =IF($T23=E23,AC$1,"") -> player4 | AD23: =IF($T23=F23,AD$1,"") -> player5 | AE23: =IF($T23=G23,AE$1,"") -> player6 | AF23: =IF($T23=H23,AF$1,"") -> player7 | AG23: =IF($T23=I23,AG$1,"") -> player8 | AH23: =IF($T23=J23,AH$1,"") -> player9
T24: =MIN(B24:K24) -> 0 | Z24: =IF($T24=B24,Z$1,"") -> player1 | AA24: =IF($T24=C24,AA$1,"") -> player2 | AB24: =IF($T24=D24,AB$1,"") -> player3 | AC24: =IF($T24=E24,AC$1,"") -> player4 | AD24: =IF($T24=F24,AD$1,"") -> player5 | AE24: =IF($T24=G24,AE$1,"") -> player6 | AF24: =IF($T24=H24,AF$1,"") -> player7 | AG24: =IF($T24=I24,AG$1,"") -> player8 | AH24: =IF($T24=J24,AH$1,"") -> player9
T25: =MIN(B25:K25) -> 0 | Z25: =IF($T25=B25,Z$1,"") -> player1 | AA25: =IF($T25=C25,AA$1,"") -> player2 | AB25: =IF($T25=D25,AB$1,"") -> player3 | AC25: =IF($T25=E25,AC$1,"") -> player4 | AD25: =IF($T25=F25,AD$1,"") -> player5 | AE25: =IF($T25=G25,AE$1,"") -> player6 | AF25: =IF($T25=H25,AF$1,"") -> player7 | AG25: =IF($T25=I25,AG$1,"") -> player8 | AH25: =IF($T25=J25,AH$1,"") -> player9
T26: =MIN(B26:K26) -> 0 | Z26: =IF($T26=B26,Z$1,"") -> player1 | AA26: =IF($T26=C26,AA$1,"") -> player2 | AB26: =IF($T26=D26,AB$1,"") -> player3 | AC26: =IF($T26=E26,AC$1,"") -> player4 | AD26: =IF($T26=F26,AD$1,"") -> player5 | AE26: =IF($T26=G26,AE$1,"") -> player6 | AF26: =IF($T26=H26,AF$1,"") -> player7 | AG26: =IF($T26=I26,AG$1,"") -> player8 | AH26: =IF($T26=J26,AH$1,"") -> player9
T27: =MIN(B27:K27) -> 0 | Z27: =IF($T27=B27,Z$1,"") -> player1 | AA27: =IF($T27=C27,AA$1,"") -> player2 | AB27: =IF($T27=D27,AB$1,"") -> player3 | AC27: =IF($T27=E27,AC$1,"") -> player4 | AD27: =IF($T27=F27,AD$1,"") -> player5 | AE27: =IF($T27=G27,AE$1,"") -> player6 | AF27: =IF($T27=H27,AF$1,"") -> player7 | AG27: =IF($T27=I27,AG$1,"") -> player8 | AH27: =IF($T27=J27,AH$1,"") -> player9
T28: =MIN(B28:K28) -> 0 | Z28: =IF($T28=B28,Z$1,"") -> player1 | AA28: =IF($T28=C28,AA$1,"") -> player2 | AB28: =IF($T28=D28,AB$1,"") -> player3 | AC28: =IF($T28=E28,AC$1,"") -> player4 | AD28: =IF($T28=F28,AD$1,"") -> player5 | AE28: =IF($T28=G28,AE$1,"") -> player6 | AF28: =IF($T28=H28,AF$1,"") -> player7 | AG28: =IF($T28=I28,AG$1,"") -> player8 | AH28: =IF($T28=J28,AH$1,"") -> player9
T29: =MIN(B29:K29) -> 0 | Z29: =IF($T29=B29,Z$1,"") -> player1 | AA29: =IF($T29=C29,AA$1,"") -> player2 | AB29: =IF($T29=D29,AB$1,"") -> player3 | AC29: =IF($T29=E29,AC$1,"") -> player4 | AD29: =IF($T29=F29,AD$1,"") -> player5 | AE29: =IF($T29=G29,AE$1,"") -> player6 | AF29: =IF($T29=H29,AF$1,"") -> player7 | AG29: =IF($T29=I29,AG$1,"") -> player8 | AH29: =IF($T29=J29,AH$1,"") -> player9
T30: =MIN(B30:K30) -> 0 | Z30: =IF($T30=B30,Z$1,"") -> player1 | AA30: =IF($T30=C30,AA$1,"") -> player2 | AB30: =IF($T30=D30,AB$1,"") -> player3 | AC30: =IF($T30=E30,AC$1,"") -> player4 | AD30: =IF($T30=F30,AD$1,"") -> player5 | AE30: =IF($T30=G30,AE$1,"") -> player6 | AF30: =IF($T30=H30,AF$1,"") -> player7 | AG30: =IF($T30=I30,AG$1,"") -> player8 | AH30: =IF($T30=J30,AH$1,"") -> player9
A38: Total | B38: =SUM(B2:B20) -> 205 | C38: =SUM(C2:C20) -> 145 | D38: =SUM(D2:D20) -> 423 | E38: =SUM(E2:E20) -> 340 | F38: =SUM(F2:F20) -> 259 | G38: =SUM(G2:G20) -> 77 | H38: =SUM(H2:H20) -> 467 | I38: =SUM(I2:I20) -> 55 | J38: =SUM(J2:J20) -> 335
